BEGIN:VCALENDAR
PRODID://WordPress//Event-Post-V5.9.2//EN
VERSION:2.0
BEGIN:VTIMEZONE
TZID:Europe/Paris
BEGIN:DAYLIGHT
TZOFFSETFROM:+0100
TZOFFSETTO:+0200
DTSTART:19700329T020000
RRULE:FREQ=YEARLY;BYDAY=-1SU;BYMONTH=3
END:DAYLIGHT
BEGIN:STANDARD
TZOFFSETFROM:+0200
TZOFFSETTO:+0100
TZNAME:CET
DTSTART:19701025T030000
RRULE:FREQ=YEARLY;BYDAY=-1SU;BYMONTH=10
END:STANDARD
END:VTIMEZONE
BEGIN:VEVENT
SUMMARY:Sorties apprenantes grandes voies à Ailefroide - Juillet et Août 2026
UID:https://www.cimes19.fr/2026/04/20/sorties-apprenantes-grandes-voies-a-ailefroide-juillet-et-aout-2026/
LOCATION:
DTSTAMP:20260627
DTSTART;TZID=Europe/Paris:20260627
DTEND;TZID=Europe/Paris:20260704
DESCRIPTION:Comme chaque année, le collectif formation IdF propose deux sorties
apprenantes à Ailefroide (Hautes-Alpes)
Initiation et perfectionnement accompagné aux grandes voies
Séjours pour 20 participant·es : 10 grimpeurs et grimpeuses
expérimenté·es et 10 grimpeurs et grimpeuses débutant·es ou
partiellement autonomes.
Les équipes d’organisation assureront la coordination et
l’organisation des cordées.
Cette sortie apprenante se déroule sur le principe du partage et la
rencontre :
Les grimpeur·euses expérimenté·es et autonomes en grandes voies
viennent pour accompagner les grimpeur·euses débutant·es ou souhaitant
gagner en autonomie en grandes voies.
Tous les détails sont dans l'affiche sur le forum. Une participation de 20
euros est demandée aux grimpeurs et grimpeuses accompagné·es.
Les inscriptions se font après un premier contact par téléphone avec un
membre de l’équipe d’organisation du séjour concerné.
Les équipes d’organisation : voir sur le forum
END:VEVENT
END:VCALENDAR