BEGIN:VCALENDAR
PRODID://WordPress//Event-Post-V5.9.2//EN
VERSION:2.0
BEGIN:VTIMEZONE
TZID:Europe/Paris
BEGIN:DAYLIGHT
TZOFFSETFROM:+0100
TZOFFSETTO:+0200
DTSTART:19700329T020000
RRULE:FREQ=YEARLY;BYDAY=-1SU;BYMONTH=3
END:DAYLIGHT
BEGIN:STANDARD
TZOFFSETFROM:+0200
TZOFFSETTO:+0100
TZNAME:CET
DTSTART:19701025T030000
RRULE:FREQ=YEARLY;BYDAY=-1SU;BYMONTH=10
END:STANDARD
END:VTIMEZONE
BEGIN:VEVENT
SUMMARY:Sortie escalade Gorges de la Jonte du 8 au 16 mai 2026 avec Grimpe13- 1 place dispo
UID:https://www.cimes19.fr/2026/04/20/sortie-escalade-gorges-de-la-jonte-du-8-au-16-mai-2026-avec-grimpe13-1-place-dispo/
LOCATION:
DTSTAMP:20260508
DTSTART;TZID=Europe/Paris:20260508
DTEND;TZID=Europe/Paris:20260516
DESCRIPTION:Grimpe13 organise une sortie escalade aux gorges de la Jonte du 8 au 16 mai
2026, et nous venons d’avoir un désistement.
Toutes les informations sont dans l’affiche : voir sur le forum
Pré-requis : être autonome et avoir un niveau 5c minimum
Le gite est déjà réservé.
Aller-retour prévu en voiture, qu’on louera si besoin.
Si vous êtes intéressé.e, vous pouvez me contacter directement par mail
à Yuan : voir email sur le forum
Bonne journée.Yuan
END:VEVENT
END:VCALENDAR