BEGIN:VCALENDAR
PRODID://WordPress//Event-Post-V5.9.2//EN
VERSION:2.0
BEGIN:VTIMEZONE
TZID:Europe/Paris
BEGIN:DAYLIGHT
TZOFFSETFROM:+0100
TZOFFSETTO:+0200
DTSTART:19700329T020000
RRULE:FREQ=YEARLY;BYDAY=-1SU;BYMONTH=3
END:DAYLIGHT
BEGIN:STANDARD
TZOFFSETFROM:+0200
TZOFFSETTO:+0100
TZNAME:CET
DTSTART:19701025T030000
RRULE:FREQ=YEARLY;BYDAY=-1SU;BYMONTH=10
END:STANDARD
END:VTIMEZONE
BEGIN:VEVENT
SUMMARY:Rassemblement multi-activités Castet du 11 juillet au 1er août 2026
UID:https://www.cimes19.fr/2026/04/20/rassemblement-multi-activites-castet-du-11-juillet-au-1er-aout-2026/
LOCATION:
DTSTAMP:20260711
DTSTART;TZID=Europe/Paris:20260711
DTEND;TZID=Europe/Paris:20260801
DESCRIPTION:Le traditionnel camp de CASTET dans les Pyrénées va se dérouler cette
année du 11 juillet au 1 Août 2026 avec plusieurs temps forts !
- Du 11 au 18 Juillet 2026 : Une semaine axée sur la grimpe. Que vous
soyez confirmés ou débutants, il y en a pour tous les goûts. Des grandes
voies, des couennes… Tout un secteur à explorer entre la vallée
d’Ossau, les vallées voisines, l’Espagne… Que de beaux moments de
grimpe en perspective!
-Du 18 au 25 Juillet 2026 : Une semaine où l’escalade sera bien entendu
aussi présente, mais le canyoning, la randonnée, la via ferrata et tout
ce que vous souhaiterez partager pourra se mettre en place. Cette
semaine-là, il y aura aussi un partage d’activités avec les jeunes
migrants qui seront accompagnés par le comité 64.
- du 25 juillet au 1er Août 2026: C’est une semaine plus spécialement
orientée Famille/ ENFANCE! L’occasion de venir faire de la montagne avec
vos enfants. Là aussi une multitude d’activités: randonnée, escalade,
découverte de la nature, Baby-canyon (ou remontée de ruisseau…),
observation des étoiles, Bébé nageur, motricité libre dans le
camping… Un espace de jeu et de liberté pour les enfants… et les
parents !
Ce séjour se passe dans un petit camping à la ferme de la famille
Cazenave-Doux à Castet en vallée d’Ossau.
Pour conserver le côté convivial et aussi fonctionnel du camping, nous
limitons chaque semaine à une cinquantaine de participants. Ce camp est
autogéré, c’est donc les participants qui construisent, organisent et
encadrent eux même les activités et la vie commune du camp, chacun
pouvant à sa mesure apporter sa pierre à la dynamique du camp.
Il est possible de partager des activités comme:
Cela dépend de nous, de nos envies et de ce que nous ferons ensemble lors
de ce rassemblement.
Ce sont aussi des moments conviviaux (apéros et repas en commun…), des
auberges espagnoles mémorables et tout ce que nous construirons pour faire
un beau rassemblement.
Si vous avez envie de vous joindre à nous pour l’une ou l’autre de ces
semaines, vous pouvez vous inscrire sur ce ce lien
Si vous avez besoin d’informations complémentaires, vous pouvez écrire
au collectif d’organisation (que vous pouvez rejoindre à tout moment )
en écrivant à : voir email du le forum
En espérant vous voir bientôt dans ce bel écrin de verdure!
AdishatzLe collectif d’organisation
END:VEVENT
END:VCALENDAR